BEGIN:VCALENDAR
VERSION:2.0
PRODID:-//GOLDEN RETRIEVER CLUB OF SCOTLAND - ECPv6.15.20//NONSGML v1.0//EN
CALSCALE:GREGORIAN
METHOD:PUBLISH
X-WR-CALNAME:GOLDEN RETRIEVER CLUB OF SCOTLAND
X-ORIGINAL-URL:https://goldenretrieverclubofscotland.com
X-WR-CALDESC:Events for GOLDEN RETRIEVER CLUB OF SCOTLAND
REFRESH-INTERVAL;VALUE=DURATION:PT1H
X-Robots-Tag:noindex
X-PUBLISHED-TTL:PT1H
BEGIN:VTIMEZONE
TZID:Europe/London
BEGIN:DAYLIGHT
TZOFFSETFROM:+0000
TZOFFSETTO:+0100
TZNAME:BST
DTSTART:20210328T010000
END:DAYLIGHT
BEGIN:STANDARD
TZOFFSETFROM:+0100
TZOFFSETTO:+0000
TZNAME:GMT
DTSTART:20211031T010000
END:STANDARD
BEGIN:DAYLIGHT
TZOFFSETFROM:+0000
TZOFFSETTO:+0100
TZNAME:BST
DTSTART:20220327T010000
END:DAYLIGHT
BEGIN:STANDARD
TZOFFSETFROM:+0100
TZOFFSETTO:+0000
TZNAME:GMT
DTSTART:20221030T010000
END:STANDARD
BEGIN:DAYLIGHT
TZOFFSETFROM:+0000
TZOFFSETTO:+0100
TZNAME:BST
DTSTART:20230326T010000
END:DAYLIGHT
BEGIN:STANDARD
TZOFFSETFROM:+0100
TZOFFSETTO:+0000
TZNAME:GMT
DTSTART:20231029T010000
END:STANDARD
END:VTIMEZONE
BEGIN:VEVENT
DTSTART;TZID=Europe/London:20220409T090000
DTEND;TZID=Europe/London:20220409T170000
DTSTAMP:20260424T114827
CREATED:20220215T173922Z
LAST-MODIFIED:20220407T103013Z
UID:1320-1649494800-1649523600@goldenretrieverclubofscotland.com
SUMMARY:The Golden Retriever Club of Scotland Championship Dog Show
DESCRIPTION:The Golden Retriever Club of Scotland are holding a championship show in the Bells Sport Centre Perth\, our judges on the day are \nDogs:- Mrs C Zingg (Rayleas) \nBitches:- Mrs S Towers (Alibren) \nReferee:- Change to original now Mrs Susan Webster \nEntry can be made on Fosse Data only\, there will be no paper entries for this show \nWe look forward to seeing you on the day
URL:https://goldenretrieverclubofscotland.com/club-diary/grcs-championship-dog-show/
LOCATION:Gannochy Trust Sports Complex\, Bells Sports Centre\, Perth\, PH1 5HS
END:VEVENT
END:VCALENDAR