BEGIN:VCALENDAR
VERSION:2.0
PRODID:-//GOLDEN RETRIEVER CLUB OF SCOTLAND - ECPv6.15.20//NONSGML v1.0//EN
CALSCALE:GREGORIAN
METHOD:PUBLISH
X-WR-CALNAME:GOLDEN RETRIEVER CLUB OF SCOTLAND
X-ORIGINAL-URL:https://goldenretrieverclubofscotland.com
X-WR-CALDESC:Events for GOLDEN RETRIEVER CLUB OF SCOTLAND
REFRESH-INTERVAL;VALUE=DURATION:PT1H
X-Robots-Tag:noindex
X-PUBLISHED-TTL:PT1H
BEGIN:VTIMEZONE
TZID:Europe/London
BEGIN:DAYLIGHT
TZOFFSETFROM:+0000
TZOFFSETTO:+0100
TZNAME:BST
DTSTART:20220327T010000
END:DAYLIGHT
BEGIN:STANDARD
TZOFFSETFROM:+0100
TZOFFSETTO:+0000
TZNAME:GMT
DTSTART:20221030T010000
END:STANDARD
BEGIN:DAYLIGHT
TZOFFSETFROM:+0000
TZOFFSETTO:+0100
TZNAME:BST
DTSTART:20230326T010000
END:DAYLIGHT
BEGIN:STANDARD
TZOFFSETFROM:+0100
TZOFFSETTO:+0000
TZNAME:GMT
DTSTART:20231029T010000
END:STANDARD
BEGIN:DAYLIGHT
TZOFFSETFROM:+0000
TZOFFSETTO:+0100
TZNAME:BST
DTSTART:20240331T010000
END:DAYLIGHT
BEGIN:STANDARD
TZOFFSETFROM:+0100
TZOFFSETTO:+0000
TZNAME:GMT
DTSTART:20241027T010000
END:STANDARD
END:VTIMEZONE
BEGIN:VEVENT
DTSTART;VALUE=DATE:20230710
DTEND;VALUE=DATE:20230715
DTSTAMP:20260419T232126
CREATED:20210318T092336Z
LAST-MODIFIED:20220216T175336Z
UID:923-1688947200-1689379199@goldenretrieverclubofscotland.com
SUMMARY:Guisachan Gathering 2023
DESCRIPTION:The dates for the 2023 Gathering at Guisachan will be Monday 10th July through to Friday 14th July. \nThis is a celebration of 155 years of the founding of the  Golden Retriever\, originally bred at Guisachan by Lord Tweedmouth. \nThe week will hold daily activities and events\, and the Committee of GRCS will announce what the week will entail in due course. \nAll information regarding the Gathering will be be firstly sent to GRCS current Members\, followed by information being released onto the Club Website and to the Club Facebook page and the Guisachan Gathering Facebook page. \nPlease give the Committee time to finalise the details\, as soon as we have information share\, we will do so. \nUpdate on the Judges\, we have judges approved by the Kennel Club today 16/02/2022 \nDogs:- Fiona Thurm \nBitches:- Sue Pounds Longhurst \nRefereee:- Wayne McGrath
URL:https://goldenretrieverclubofscotland.com/club-diary/guisachan-gathering-2023/
CATEGORIES:Show
ATTACH;FMTTYPE=image/jpeg:https://goldenretrieverclubofscotland.com/wp-content/uploads/2021/03/18922114_10212848558826204_382718713951583402_n-e1617993770582.jpg
END:VEVENT
BEGIN:VEVENT
DTSTART;TZID=Europe/London:20230710T080000
DTEND;TZID=Europe/London:20230714T170000
DTSTAMP:20260419T232126
CREATED:20230121T103423Z
LAST-MODIFIED:20230623T180815Z
UID:1635-1688976000-1689354000@goldenretrieverclubofscotland.com
SUMMARY:Guishachan Gathering Programme of Events
DESCRIPTION:Guisachan programme Final \n\n\n\n\nMorning\nAfternoon\nEvening\n\n\nMonday 10th July\n\n\nGood Citizen Award\, \nShinty Field Cannich \nTraining session \nOrganised By Fiona Walker all Welcome \n\nInformal Welcome Evening and Canine Frolics   \n6 events £2 per event or £10 for all six 6pm: catering available by Moveable Feast \nHeld at Cannich Shinty Pitch \nContact Marie Grady / Kirsty Feasby\n\n\nTuesday 11th July\nGood Citizen Award\, Shinty Field Cannich 10am – 12 noon (test) \nSpaces for 10 dogs Cost £8 \n  \nOrganised By Fiona Walker\, please contact to book a place:  07854045218 \nSubject To KC Permission\nAfternoon Tea\, Hosted by GRCS (Ticketed) \n1pm -3pm All things Golden: hosted by Sharon McCormack & Jennifer MacDonald\, Films\, History\, Quiz \n  Good Citizen Award\, Shinty Field Cannich \nTest 1.30pm – 3.30pm \nSpaces for 10 dogs \nOrganised By Fiona Walker\, please contact to book a place: Cost £8 Subject to KC Permission \nTorchlight Procession to Guisachan House \nStarting from the Kennel Field at 10pm walking the mile to Guisachan House with your Golden Retriever\, arriving at the house there will be a Scottish welcome\, a chance to obtain photographs\, partake in a toast to Lord Tweedmouth\, delivered by our President Mr. Jim Richardson.\n\n\nWednesday 12th July \n \n\nGundog Demonstration \n10am -11am \nCannich Shinty Pitch \nGRCS Field Trail Secretary Sarah Winter & team \nShow Handling Presentation and Workshop  \n10.30am- 12.30 Shinty Field \nDavid Alcorn (Rapport Training) RapportShowDogTraining@outlook.com\n\nSeminar – Sue Ketland Dip CABT. \n1pm-3pm (1) The reality of living with a puppy. (2) Dominance myth busting\, differing approaches to training and how to deal with common behavioural issues. Contact Fiona Clarkson  drumkiltygold@yahoo.co.uk \n  \nPoints of the Dog \nContact David Alcorn KC accredited trainer £10 per person per test   1.30- 3pm\n  \nFormal Dinner Dance \n7pm – 12.00pm \n(Ticketed event) within the giant marquee at the Shinty Field in the village of Cannich. \nTake to the dance floor until midnight. \n\n\n\n\nThursday 13th July\n\nThe Gathering from 12pm at Guisachan House\, with games\, Haggis Hurling\, Tug of War\, Scurry and the Grand old Duke of York (to count the number of Goldens present) Group Photo by Lynn Kipps\, Bring your own picnics. No cars allowed at the house\, parking will be at the Kennel Field\, with transport available (from 10.30am) for those with limited mobility.\n\nScottish Social Evening  \n7:00pm – 12:00pm \n(Ticketed event) within the giant marquee at the Shinty Field in the village of Cannich \n supper will be provided. \n\n\n\nFriday 14th July\n\nChampionship Dog Show: \n At Cannich Shinty Pitch\, Main Road\, Cannich\, IV4 7LT \nShow Opens 8.00am\, Judging begins at 8.30am with Junior Handling\, 09:30 Ch Sh Outdoor no wet weather accommodation: entries via Fosse Data\n\nDogs: Fiona Thurm (Beldonburn) \nBitches:  Sue Pounds Longhurst (Mossburn) \nReferee: Wayne McGrath \n\nFood available in the Cannich Village Hall – by Movable Feast (8am-5pm)\n\nTime to say goodbye \nInformal get together\, thank you to all after the close of the Show \nFood Provided by Highland Hog Roast
URL:https://goldenretrieverclubofscotland.com/club-diary/guishachan-gathering-programme-of-events/
LOCATION:Cannich\, Shinty Pitch\, IV4 7LT
END:VEVENT
END:VCALENDAR