BEGIN:VCALENDAR
VERSION:2.0
PRODID:-//GOLDEN RETRIEVER CLUB OF SCOTLAND - ECPv6.15.20//NONSGML v1.0//EN
CALSCALE:GREGORIAN
METHOD:PUBLISH
X-WR-CALNAME:GOLDEN RETRIEVER CLUB OF SCOTLAND
X-ORIGINAL-URL:https://goldenretrieverclubofscotland.com
X-WR-CALDESC:Events for GOLDEN RETRIEVER CLUB OF SCOTLAND
REFRESH-INTERVAL;VALUE=DURATION:PT1H
X-Robots-Tag:noindex
X-PUBLISHED-TTL:PT1H
BEGIN:VTIMEZONE
TZID:Europe/London
BEGIN:DAYLIGHT
TZOFFSETFROM:+0000
TZOFFSETTO:+0100
TZNAME:BST
DTSTART:20200329T010000
END:DAYLIGHT
BEGIN:STANDARD
TZOFFSETFROM:+0100
TZOFFSETTO:+0000
TZNAME:GMT
DTSTART:20201025T010000
END:STANDARD
BEGIN:DAYLIGHT
TZOFFSETFROM:+0000
TZOFFSETTO:+0100
TZNAME:BST
DTSTART:20210328T010000
END:DAYLIGHT
BEGIN:STANDARD
TZOFFSETFROM:+0100
TZOFFSETTO:+0000
TZNAME:GMT
DTSTART:20211031T010000
END:STANDARD
BEGIN:DAYLIGHT
TZOFFSETFROM:+0000
TZOFFSETTO:+0100
TZNAME:BST
DTSTART:20220327T010000
END:DAYLIGHT
BEGIN:STANDARD
TZOFFSETFROM:+0100
TZOFFSETTO:+0000
TZNAME:GMT
DTSTART:20221030T010000
END:STANDARD
END:VTIMEZONE
BEGIN:VEVENT
DTSTART;VALUE=DATE:20210703
DTEND;VALUE=DATE:20210704
DTSTAMP:20260421T015334
CREATED:20210527T214327Z
LAST-MODIFIED:20210527T214327Z
UID:1015-1625270400-1625356799@goldenretrieverclubofscotland.com
SUMMARY:Open Show - Menstrie - Saturday 3rd July 2021
DESCRIPTION:An Open Show will be held OUTSIDE on Saturday 3rd July at Dumyat Leisure Centre\, Menstrie\, FK11 7DL \nThe Judge will be Mrs Irene Glen (Wilholme) \nSchedules will be available on the Fosse Data website. Entries will only be accepted ONLINE due to the Covid restrictions.  If anyone has any issues entering please make contact direct with Elaine Brady on 07801 441138. \nDue to the nature of the Covid restrictions there will be NO Catering provided. \nDetails regarding further Covid measures can be found on the Schedule.
URL:https://goldenretrieverclubofscotland.com/club-diary/open-show-menstrie-saturday-3rd-july-2021/
CATEGORIES:Show,Social
ATTACH;FMTTYPE=image/jpeg:https://goldenretrieverclubofscotland.com/wp-content/uploads/2019/06/Open-Show-9th-June-2019-pic-4.jpg
END:VEVENT
END:VCALENDAR