BEGIN:VCALENDAR
VERSION:2.0
PRODID:-//GOLDEN RETRIEVER CLUB OF SCOTLAND - ECPv6.15.20//NONSGML v1.0//EN
CALSCALE:GREGORIAN
METHOD:PUBLISH
X-ORIGINAL-URL:https://goldenretrieverclubofscotland.com
X-WR-CALDESC:Events for GOLDEN RETRIEVER CLUB OF SCOTLAND
REFRESH-INTERVAL;VALUE=DURATION:PT1H
X-Robots-Tag:noindex
X-PUBLISHED-TTL:PT1H
BEGIN:VTIMEZONE
TZID:Europe/London
BEGIN:DAYLIGHT
TZOFFSETFROM:+0000
TZOFFSETTO:+0100
TZNAME:BST
DTSTART:20200329T010000
END:DAYLIGHT
BEGIN:STANDARD
TZOFFSETFROM:+0100
TZOFFSETTO:+0000
TZNAME:GMT
DTSTART:20201025T010000
END:STANDARD
BEGIN:DAYLIGHT
TZOFFSETFROM:+0000
TZOFFSETTO:+0100
TZNAME:BST
DTSTART:20210328T010000
END:DAYLIGHT
BEGIN:STANDARD
TZOFFSETFROM:+0100
TZOFFSETTO:+0000
TZNAME:GMT
DTSTART:20211031T010000
END:STANDARD
BEGIN:DAYLIGHT
TZOFFSETFROM:+0000
TZOFFSETTO:+0100
TZNAME:BST
DTSTART:20220327T010000
END:DAYLIGHT
BEGIN:STANDARD
TZOFFSETFROM:+0100
TZOFFSETTO:+0000
TZNAME:GMT
DTSTART:20221030T010000
END:STANDARD
END:VTIMEZONE
BEGIN:VEVENT
DTSTART;VALUE=DATE:20210522
DTEND;VALUE=DATE:20210523
DTSTAMP:20260421T154842
CREATED:20210209T122342Z
LAST-MODIFIED:20210209T122342Z
UID:899-1621641600-1621727999@goldenretrieverclubofscotland.com
SUMMARY:Working Test 2021
DESCRIPTION:The 2021 Working test  will be held at Logiealmond Estate on Saturday 22nd May\, by very kind permission of Philip Blount\, Estate Manager and the Estate owners. \nEntry Forms and and the Test Schedule have been sent to 2021 members. All entires must be made in advance. There will be NO entries accepted on the day. Should any non members wish the information  please contact the Field Trial Secretary. Entries will be limited to comply to the Club’s Risk Assessment. If oversubscribed\, a draw will take place with preference being given to members. \nJudges are Billy Steel (A) Alan Downie (B) Adam Mair (NP) and Philip Blount (NP) \nPlease note to comply with the Club’s Covid Risk Assessment unfortunately we cannot allow Spectators on this occasion.
URL:https://goldenretrieverclubofscotland.com/club-diary/working-test-2021/
CATEGORIES:Social,Working
ATTACH;FMTTYPE=image/jpeg:https://goldenretrieverclubofscotland.com/wp-content/uploads/2019/10/IMG_0627.jpg
END:VEVENT
END:VCALENDAR