BEGIN:VCALENDAR
VERSION:2.0
PRODID:-//GOLDEN RETRIEVER CLUB OF SCOTLAND - ECPv6.15.20//NONSGML v1.0//EN
CALSCALE:GREGORIAN
METHOD:PUBLISH
X-WR-CALNAME:GOLDEN RETRIEVER CLUB OF SCOTLAND
X-ORIGINAL-URL:https://goldenretrieverclubofscotland.com
X-WR-CALDESC:Events for GOLDEN RETRIEVER CLUB OF SCOTLAND
REFRESH-INTERVAL;VALUE=DURATION:PT1H
X-Robots-Tag:noindex
X-PUBLISHED-TTL:PT1H
BEGIN:VTIMEZONE
TZID:Europe/London
BEGIN:DAYLIGHT
TZOFFSETFROM:+0000
TZOFFSETTO:+0100
TZNAME:BST
DTSTART:20200329T010000
END:DAYLIGHT
BEGIN:STANDARD
TZOFFSETFROM:+0100
TZOFFSETTO:+0000
TZNAME:GMT
DTSTART:20201025T010000
END:STANDARD
BEGIN:DAYLIGHT
TZOFFSETFROM:+0000
TZOFFSETTO:+0100
TZNAME:BST
DTSTART:20210328T010000
END:DAYLIGHT
BEGIN:STANDARD
TZOFFSETFROM:+0100
TZOFFSETTO:+0000
TZNAME:GMT
DTSTART:20211031T010000
END:STANDARD
BEGIN:DAYLIGHT
TZOFFSETFROM:+0000
TZOFFSETTO:+0100
TZNAME:BST
DTSTART:20220327T010000
END:DAYLIGHT
BEGIN:STANDARD
TZOFFSETFROM:+0100
TZOFFSETTO:+0000
TZNAME:GMT
DTSTART:20221030T010000
END:STANDARD
END:VTIMEZONE
BEGIN:VEVENT
DTSTART;VALUE=DATE:20210620
DTEND;VALUE=DATE:20210621
DTSTAMP:20260421T141930
CREATED:20210209T130511Z
LAST-MODIFIED:20210209T130511Z
UID:901-1624147200-1624233599@goldenretrieverclubofscotland.com
SUMMARY:Scottish Interclub Working Test
DESCRIPTION:The Golden Retriever Club of Scotland host the 2021 Interclub Working Test on Sunday 20th June 2021. \nThe venue for the event will be Logiealmond Estate\, Perthshire by very kind permission of Mr Philip Blount\, Estate Manager and the Estate owners. \nJudges are Tom West (A)\, Robin Watson (A)\, Alan Downie (B) and another Judge to be finalised. Invites will be sent to each Scottish Club FT Secretary with information for entry. Teams will be made up of 3 handlers at Open standard.  Deadline for team entry will be 7th June.  Spectators may be welcome\, subject to the Scottish Governments current guidelines at the time of the competition. If you wish to be a spectator\, please make contact with the Field Trial Secretary to ensure your details are obtained for Track and Trace purposes. \nCovid guidelines permitting of course ! \n 
URL:https://goldenretrieverclubofscotland.com/club-diary/scottish-interclub-working-test/
CATEGORIES:Social,Working
ATTACH;FMTTYPE=image/jpeg:https://goldenretrieverclubofscotland.com/wp-content/uploads/2021/03/IMG_4027.jpeg
END:VEVENT
END:VCALENDAR