BEGIN:VCALENDAR
VERSION:2.0
PRODID:-//GOLDEN RETRIEVER CLUB OF SCOTLAND - ECPv6.15.20//NONSGML v1.0//EN
CALSCALE:GREGORIAN
METHOD:PUBLISH
X-ORIGINAL-URL:https://goldenretrieverclubofscotland.com
X-WR-CALDESC:Events for GOLDEN RETRIEVER CLUB OF SCOTLAND
REFRESH-INTERVAL;VALUE=DURATION:PT1H
X-Robots-Tag:noindex
X-PUBLISHED-TTL:PT1H
BEGIN:VTIMEZONE
TZID:Europe/London
BEGIN:DAYLIGHT
TZOFFSETFROM:+0000
TZOFFSETTO:+0100
TZNAME:BST
DTSTART:20180325T010000
END:DAYLIGHT
BEGIN:STANDARD
TZOFFSETFROM:+0100
TZOFFSETTO:+0000
TZNAME:GMT
DTSTART:20181028T010000
END:STANDARD
BEGIN:DAYLIGHT
TZOFFSETFROM:+0000
TZOFFSETTO:+0100
TZNAME:BST
DTSTART:20190331T010000
END:DAYLIGHT
BEGIN:STANDARD
TZOFFSETFROM:+0100
TZOFFSETTO:+0000
TZNAME:GMT
DTSTART:20191027T010000
END:STANDARD
BEGIN:DAYLIGHT
TZOFFSETFROM:+0000
TZOFFSETTO:+0100
TZNAME:BST
DTSTART:20200329T010000
END:DAYLIGHT
BEGIN:STANDARD
TZOFFSETFROM:+0100
TZOFFSETTO:+0000
TZNAME:GMT
DTSTART:20201025T010000
END:STANDARD
END:VTIMEZONE
BEGIN:VEVENT
DTSTART;VALUE=DATE:20191116
DTEND;VALUE=DATE:20191117
DTSTAMP:20260423T135523
CREATED:20191002T130733Z
LAST-MODIFIED:20191002T130733Z
UID:1013-1573862400-1573948799@goldenretrieverclubofscotland.com
SUMMARY:Open Breed Stake Trial
DESCRIPTION:The Breed Stake (Golden Retrievers only) will be held at Drummond Estate\, Crieff\, Perthshire on Saturday 16th November 2019. \nJudges : Nick Coates (A)  Mike Rolland (A) Dick Sorley (A) Erica Munro Ferguson (B) \nClosing date for entries is Monday 28th October 2019.  Schedule and Entry form below. \n2019 Trial Schedule – Breed \n2019 GRCS Trial Entry Form \n 
URL:https://goldenretrieverclubofscotland.com/club-diary/open-breed-stake-trial/
CATEGORIES:Working
END:VEVENT
END:VCALENDAR