BEGIN:VCALENDAR
VERSION:2.0
PRODID:-//GOLDEN RETRIEVER CLUB OF SCOTLAND - ECPv6.15.20//NONSGML v1.0//EN
CALSCALE:GREGORIAN
METHOD:PUBLISH
X-WR-CALNAME:GOLDEN RETRIEVER CLUB OF SCOTLAND
X-ORIGINAL-URL:https://goldenretrieverclubofscotland.com
X-WR-CALDESC:Events for GOLDEN RETRIEVER CLUB OF SCOTLAND
REFRESH-INTERVAL;VALUE=DURATION:PT1H
X-Robots-Tag:noindex
X-PUBLISHED-TTL:PT1H
BEGIN:VTIMEZONE
TZID:Europe/London
BEGIN:DAYLIGHT
TZOFFSETFROM:+0000
TZOFFSETTO:+0100
TZNAME:BST
DTSTART:20190331T010000
END:DAYLIGHT
BEGIN:STANDARD
TZOFFSETFROM:+0100
TZOFFSETTO:+0000
TZNAME:GMT
DTSTART:20191027T010000
END:STANDARD
BEGIN:DAYLIGHT
TZOFFSETFROM:+0000
TZOFFSETTO:+0100
TZNAME:BST
DTSTART:20200329T010000
END:DAYLIGHT
BEGIN:STANDARD
TZOFFSETFROM:+0100
TZOFFSETTO:+0000
TZNAME:GMT
DTSTART:20201025T010000
END:STANDARD
BEGIN:DAYLIGHT
TZOFFSETFROM:+0000
TZOFFSETTO:+0100
TZNAME:BST
DTSTART:20210328T010000
END:DAYLIGHT
BEGIN:STANDARD
TZOFFSETFROM:+0100
TZOFFSETTO:+0000
TZNAME:GMT
DTSTART:20211031T010000
END:STANDARD
END:VTIMEZONE
BEGIN:VEVENT
DTSTART;VALUE=DATE:20201001
DTEND;VALUE=DATE:20201002
DTSTAMP:20260422T014129
CREATED:20200820T205124Z
LAST-MODIFIED:20200820T205124Z
UID:840-1601510400-1601596799@goldenretrieverclubofscotland.com
SUMMARY:Important information regarding 2020 Field Trials
DESCRIPTION:The Committee of the Golden Retriever Club of Scotland  have unanimously made the decision  not to run any Field Trials this coming season. This has not been an easy decision to make\, but in the current climate of uncertainty  with regards to COVID-19\, we feel it is the right decision.   The local guidelines in Scotland are currently ever changing\, and we do not see this settling any time soon. \nThe decision has been made in the interests of the well being and health of all of our members\, competitors\, Judges\, Guns\, volunteers and Committee Members\, in order to support the national effort against COVID-19. \nWe look forward to a healthier and brighter 2021\, and to providing our members with events for all. \n  \nLin Mitchell \nField Trial Secretary \non behalf of the GRCS Committee
URL:https://goldenretrieverclubofscotland.com/club-diary/2020-field-trials/
CATEGORIES:Show,Social,Working
ATTACH;FMTTYPE=image/jpeg:https://goldenretrieverclubofscotland.com/wp-content/uploads/2019/10/547708_375656925900754_609658610_n.jpg
END:VEVENT
END:VCALENDAR